BEGIN:VCALENDAR
VERSION:2.0
PRODID:-//jEvents 2.0 for Joomla//EN
CALSCALE:GREGORIAN
METHOD:PUBLISH
BEGIN:VTIMEZONE
TZID:Australia/Melbourne
BEGIN:STANDARD
DTSTART:20250420T091500
RDATE:20251005T030000
TZOFFSETFROM:+1100
TZOFFSETTO:+1000
TZNAME:Australia/Melbourne AEST
END:STANDARD
BEGIN:STANDARD
DTSTART:20260405T020000
RDATE:20261004T030000
TZOFFSETFROM:+1100
TZOFFSETTO:+1000
TZNAME:Australia/Melbourne AEST
END:STANDARD
BEGIN:STANDARD
DTSTART:20270404T020000
RDATE:20271003T030000
TZOFFSETFROM:+1100
TZOFFSETTO:+1000
TZNAME:Australia/Melbourne AEST
END:STANDARD
BEGIN:STANDARD
DTSTART:20280402T020000
RDATE:20281001T030000
TZOFFSETFROM:+1100
TZOFFSETTO:+1000
TZNAME:Australia/Melbourne AEST
END:STANDARD
BEGIN:STANDARD
DTSTART:20290401T020000
RDATE:20291007T030000
TZOFFSETFROM:+1100
TZOFFSETTO:+1000
TZNAME:Australia/Melbourne AEST
END:STANDARD
BEGIN:STANDARD
DTSTART:20300407T020000
RDATE:20301006T030000
TZOFFSETFROM:+1100
TZOFFSETTO:+1000
TZNAME:Australia/Melbourne AEST
END:STANDARD
BEGIN:DAYLIGHT
DTSTART:20251005T030000
RDATE:20260405T020000
TZOFFSETFROM:+1000
TZOFFSETTO:+1100
TZNAME:Australia/Melbourne AEDT
END:DAYLIGHT
BEGIN:DAYLIGHT
DTSTART:20261004T030000
RDATE:20270404T020000
TZOFFSETFROM:+1000
TZOFFSETTO:+1100
TZNAME:Australia/Melbourne AEDT
END:DAYLIGHT
BEGIN:DAYLIGHT
DTSTART:20271003T030000
RDATE:20280402T020000
TZOFFSETFROM:+1000
TZOFFSETTO:+1100
TZNAME:Australia/Melbourne AEDT
END:DAYLIGHT
BEGIN:DAYLIGHT
DTSTART:20281001T030000
RDATE:20290401T020000
TZOFFSETFROM:+1000
TZOFFSETTO:+1100
TZNAME:Australia/Melbourne AEDT
END:DAYLIGHT
BEGIN:DAYLIGHT
DTSTART:20291007T030000
RDATE:20300407T020000
TZOFFSETFROM:+1000
TZOFFSETTO:+1100
TZNAME:Australia/Melbourne AEDT
END:DAYLIGHT
BEGIN:DAYLIGHT
DTSTART:20301006T030000
RDATE:20310406T020000
TZOFFSETFROM:+1000
TZOFFSETTO:+1100
TZNAME:Australia/Melbourne AEDT
END:DAYLIGHT
END:VTIMEZONE
BEGIN:VEVENT
UID:700beec82f23ecfade2bfd88f5538e40
CATEGORIES:Health & Fitness
CREATED:20250320T133408
SUMMARY:Walking Group - Term 2 2026
LOCATION:Delahey Community Centre
DESCRIPTION;ENCODING=QUOTED-PRINTABLE:<p><span style="font-size: 9pt; font-family: Verdana, sans-serif;">Enjoy a 
 walk around the Delahey Recreation Reserve with our friendly group followed
  by a cuppa. </span></p><div><strong>Date:</strong> Tuesdays,&nbsp;<span st
 yle="font-size: 9pt; line-height: 107%; font-family: Verdana, sans-serif;">
 21 April - 23 June</span><span style="font-size: 9pt; line-height: 107%; fo
 nt-family: Verdana, sans-serif;"><span style="color: black; background-imag
 e: initial; background-position: initial; background-repeat: initial; backg
 round-attachment: initial;"><br> </span></span></div><div><span data-tb-ses
 sion="9.15am - 10:30am – no charge " data-tb-session-mobile="9.15am - 10:30
 am – no charge "><strong>Time:</strong> 9:15am - 10:00am</span></div><div><
 strong>Cost:</strong> No charge (10 sessions)</div><div><span data-tb-sessi
 on="9.15am - 10:30am – no charge " data-tb-session-mobile="9.15am - 10:30am
  – no charge "> </span>&nbsp;</div><div><p>Delahey Community Centre<br>70 C
 opperfield Drive, Delahey VIC 3037</p></div><p>For Bookings click on the li
 nk below:<a href="https://www.trybooking.com/DHHYT">https://www.trybooking.
 com/DHHYT</a></p><p><span style="color: #1b57b1;"></span></p><p>&nbsp;</p>
DTSTAMP:20260420T130957Z
DTSTART;TZID=Australia/Melbourne:20260421T091500
DTEND;TZID=Australia/Melbourne:20260421T100000
SEQUENCE:0
TRANSP:OPAQUE
END:VEVENT
END:VCALENDAR