BEGIN:VCALENDAR
VERSION:2.0
PRODID:-//jEvents 2.0 for Joomla//EN
CALSCALE:GREGORIAN
METHOD:PUBLISH
BEGIN:VTIMEZONE
TZID:Australia/Melbourne
BEGIN:STANDARD
DTSTART:20250420T123000
RDATE:20251005T030000
TZOFFSETFROM:+1100
TZOFFSETTO:+1000
TZNAME:Australia/Melbourne AEST
END:STANDARD
BEGIN:STANDARD
DTSTART:20260405T020000
RDATE:20261004T030000
TZOFFSETFROM:+1100
TZOFFSETTO:+1000
TZNAME:Australia/Melbourne AEST
END:STANDARD
BEGIN:STANDARD
DTSTART:20270404T020000
RDATE:20271003T030000
TZOFFSETFROM:+1100
TZOFFSETTO:+1000
TZNAME:Australia/Melbourne AEST
END:STANDARD
BEGIN:STANDARD
DTSTART:20280402T020000
RDATE:20281001T030000
TZOFFSETFROM:+1100
TZOFFSETTO:+1000
TZNAME:Australia/Melbourne AEST
END:STANDARD
BEGIN:STANDARD
DTSTART:20290401T020000
RDATE:20291007T030000
TZOFFSETFROM:+1100
TZOFFSETTO:+1000
TZNAME:Australia/Melbourne AEST
END:STANDARD
BEGIN:STANDARD
DTSTART:20300407T020000
RDATE:20301006T030000
TZOFFSETFROM:+1100
TZOFFSETTO:+1000
TZNAME:Australia/Melbourne AEST
END:STANDARD
BEGIN:DAYLIGHT
DTSTART:20251005T030000
RDATE:20260405T020000
TZOFFSETFROM:+1000
TZOFFSETTO:+1100
TZNAME:Australia/Melbourne AEDT
END:DAYLIGHT
BEGIN:DAYLIGHT
DTSTART:20261004T030000
RDATE:20270404T020000
TZOFFSETFROM:+1000
TZOFFSETTO:+1100
TZNAME:Australia/Melbourne AEDT
END:DAYLIGHT
BEGIN:DAYLIGHT
DTSTART:20271003T030000
RDATE:20280402T020000
TZOFFSETFROM:+1000
TZOFFSETTO:+1100
TZNAME:Australia/Melbourne AEDT
END:DAYLIGHT
BEGIN:DAYLIGHT
DTSTART:20281001T030000
RDATE:20290401T020000
TZOFFSETFROM:+1000
TZOFFSETTO:+1100
TZNAME:Australia/Melbourne AEDT
END:DAYLIGHT
BEGIN:DAYLIGHT
DTSTART:20291007T030000
RDATE:20300407T020000
TZOFFSETFROM:+1000
TZOFFSETTO:+1100
TZNAME:Australia/Melbourne AEDT
END:DAYLIGHT
BEGIN:DAYLIGHT
DTSTART:20301006T030000
RDATE:20310406T020000
TZOFFSETFROM:+1000
TZOFFSETTO:+1100
TZNAME:Australia/Melbourne AEDT
END:DAYLIGHT
END:VTIMEZONE
BEGIN:VEVENT
UID:1f90795203d928107793448126cb5afb
CATEGORIES:Health & Fitness
CREATED:20260326T160322
SUMMARY:Ezee Tennis (Adults) - Term 2 2026
LOCATION:West Sunshine Community Centre
DESCRIPTION;ENCODING=QUOTED-PRINTABLE:<p>&nbsp;</p><p><span style="font-size: 14pt; line-height: 107%; color: bla
 ck;"><strong>Program details and registration</strong>:&nbsp;<a href="https
 ://www.trybooking.com/DKYBH">https://www.trybooking.com/DKYBH</a></span></p
 ><p><span style="caret-color: auto;">Improve coordination and fitness in th
 is fun modified indoor racquet game based on tennis. No experience required
 .</span></p><p>Wear comfortable clothing, runners and bring a drink bottle.
 </p><p><strong>Session dates are:&nbsp;</strong></p><p>Tuesdays 21 April - 
 23 June (10 weeks)<br>12.30pm - 2pm<br>Per person - $3 per session or $30 p
 er term<br><br>Thursdays 23 April - 25 June (10 weeks)<br>12.30pm - 2pm<br>
 Per person - $3 per session or $30 per term<br><br>PAYMENT OPTIONS:<br>Paym
 ents can be made on TryBooking for the full term or pay as you go at the Ce
 ntre.<br><br>*Registration is mandatory for all WSCC programs' participants
 .<br><br>For all enquiries - Call 03 9249 4555 or email <span id="cloakfc4b
 5b495c29676b1ffce1430fcd8150">This email address is being protected from sp
 ambots. You need JavaScript enabled to view it.</span><script type='text/ja
 vascript'>
				document.getElementById('cloakfc4b5b495c29676b1ffce1430fcd81
 50').innerHTML = '';
				var prefix = '&#109;a' + 'i&#108;' + '&#116;o';
		
 		var path = 'hr' + 'ef' + '=';
				var addyfc4b5b495c29676b1ffce1430fcd815
 0 = 'wscc' + '&#64;';
				addyfc4b5b495c29676b1ffce1430fcd8150 = addyfc4b5b
 495c29676b1ffce1430fcd8150 + 'br&#105;mb&#97;nk' + '&#46;' + 'v&#105;c' + '
 &#46;' + 'g&#111;v' + '&#46;' + '&#97;&#117;';
				var addy_textfc4b5b495c2
 9676b1ffce1430fcd8150 = 'wscc' + '&#64;' + 'br&#105;mb&#97;nk' + '&#46;' + 
 'v&#105;c' + '&#46;' + 'g&#111;v' + '&#46;' + '&#97;&#117;';document.getEle
 mentById('cloakfc4b5b495c29676b1ffce1430fcd8150').innerHTML += '<a ' + path
  + '\'' + prefix + ':' + addyfc4b5b495c29676b1ffce1430fcd8150 + '\'>'+addy_
 textfc4b5b495c29676b1ffce1430fcd8150+'<\/a>';
		</script></p>
DTSTAMP:20260420T182353Z
DTSTART;TZID=Australia/Melbourne:20260421T123000
DTEND;TZID=Australia/Melbourne:20260625T140000
SEQUENCE:0
TRANSP:OPAQUE
END:VEVENT
END:VCALENDAR