BEGIN:VCALENDAR
VERSION:2.0
PRODID:-//jEvents 2.0 for Joomla//EN
CALSCALE:GREGORIAN
METHOD:PUBLISH
BEGIN:VTIMEZONE
TZID:Australia/Melbourne
BEGIN:STANDARD
DTSTART:20250421T100000
RDATE:20251005T030000
TZOFFSETFROM:+1100
TZOFFSETTO:+1000
TZNAME:Australia/Melbourne AEST
END:STANDARD
BEGIN:STANDARD
DTSTART:20260405T020000
RDATE:20261004T030000
TZOFFSETFROM:+1100
TZOFFSETTO:+1000
TZNAME:Australia/Melbourne AEST
END:STANDARD
BEGIN:STANDARD
DTSTART:20270404T020000
RDATE:20271003T030000
TZOFFSETFROM:+1100
TZOFFSETTO:+1000
TZNAME:Australia/Melbourne AEST
END:STANDARD
BEGIN:STANDARD
DTSTART:20280402T020000
RDATE:20281001T030000
TZOFFSETFROM:+1100
TZOFFSETTO:+1000
TZNAME:Australia/Melbourne AEST
END:STANDARD
BEGIN:STANDARD
DTSTART:20290401T020000
RDATE:20291007T030000
TZOFFSETFROM:+1100
TZOFFSETTO:+1000
TZNAME:Australia/Melbourne AEST
END:STANDARD
BEGIN:STANDARD
DTSTART:20300407T020000
RDATE:20301006T030000
TZOFFSETFROM:+1100
TZOFFSETTO:+1000
TZNAME:Australia/Melbourne AEST
END:STANDARD
BEGIN:DAYLIGHT
DTSTART:20251005T030000
RDATE:20260405T020000
TZOFFSETFROM:+1000
TZOFFSETTO:+1100
TZNAME:Australia/Melbourne AEDT
END:DAYLIGHT
BEGIN:DAYLIGHT
DTSTART:20261004T030000
RDATE:20270404T020000
TZOFFSETFROM:+1000
TZOFFSETTO:+1100
TZNAME:Australia/Melbourne AEDT
END:DAYLIGHT
BEGIN:DAYLIGHT
DTSTART:20271003T030000
RDATE:20280402T020000
TZOFFSETFROM:+1000
TZOFFSETTO:+1100
TZNAME:Australia/Melbourne AEDT
END:DAYLIGHT
BEGIN:DAYLIGHT
DTSTART:20281001T030000
RDATE:20290401T020000
TZOFFSETFROM:+1000
TZOFFSETTO:+1100
TZNAME:Australia/Melbourne AEDT
END:DAYLIGHT
BEGIN:DAYLIGHT
DTSTART:20291007T030000
RDATE:20300407T020000
TZOFFSETFROM:+1000
TZOFFSETTO:+1100
TZNAME:Australia/Melbourne AEDT
END:DAYLIGHT
BEGIN:DAYLIGHT
DTSTART:20301006T030000
RDATE:20310406T020000
TZOFFSETFROM:+1000
TZOFFSETTO:+1100
TZNAME:Australia/Melbourne AEDT
END:DAYLIGHT
END:VTIMEZONE
BEGIN:VEVENT
UID:e36a74d867ab54116a5c9896db8a01c0
CATEGORIES:Health & Fitness
CREATED:20251222T120538
SUMMARY:Pickleball (Adults) - Term 2 2026
LOCATION:West Sunshine Community Centre
DESCRIPTION;ENCODING=QUOTED-PRINTABLE:<p>&nbsp;</p><p><strong><span style="font-size: 14pt; line-height: 107%; fo
 nt-family: Verdana, sans-serif; color: black;">Program details and registra
 tion:&nbsp;</span></strong><span style="font-size: 14pt; line-height: 107%;
  font-family: Verdana, sans-serif; color: black;"><a href="https://www.tryb
 ooking.com/DKYCF">https://www.trybooking.com/DKYCF</a></span></p><p>Join a 
 fun, friendly game of pickleball. This programs offers both physical and me
 ntal health benefits.</p><p>Suitable for all skill levels.</p><p><br>Wear c
 omfortable clothing, runners and bring a drink bottle.<br><br>Wednesdays 22
  April - 24 June (10 weeks)<br>10am - 12pm<br>Per person - $3 per session o
 r $30 per term<br><br>Sundays 26 April - 21 June (9 weeks)<br>10am - 12pm<b
 r>Per person - $3 per session or $27 per term&nbsp;</p><p>Please note - Par
 ticipant must register and pay before Sunday- NO payment accepted on Sunday
 .&nbsp;<br><br>PAYMENT OPTIONS:<br>Payments can be made on TryBooking for t
 he full term or pay as you go at the Centre.<br><br>*Registration is mandat
 ory for all WSCC programs' participants.<br><br>For enquiries - Call 03 924
 9 4555 or email <span id="cloak78ddf8bdb531ff64f14764d67915f485">This email
  address is being protected from spambots. You need JavaScript enabled to v
 iew it.</span><script type='text/javascript'>
				document.getElementById('
 cloak78ddf8bdb531ff64f14764d67915f485').innerHTML = '';
				var prefix = '&
 #109;a' + 'i&#108;' + '&#116;o';
				var path = 'hr' + 'ef' + '=';
				var 
 addy78ddf8bdb531ff64f14764d67915f485 = 'wscc' + '&#64;';
				addy78ddf8bdb5
 31ff64f14764d67915f485 = addy78ddf8bdb531ff64f14764d67915f485 + 'br&#105;mb
 &#97;nk' + '&#46;' + 'v&#105;c' + '&#46;' + 'g&#111;v' + '&#46;' + '&#97;&#
 117;';
				var addy_text78ddf8bdb531ff64f14764d67915f485 = 'wscc' + '&#64;'
  + 'br&#105;mb&#97;nk' + '&#46;' + 'v&#105;c' + '&#46;' + 'g&#111;v' + '&#4
 6;' + '&#97;&#117;';document.getElementById('cloak78ddf8bdb531ff64f14764d67
 915f485').innerHTML += '<a ' + path + '\'' + prefix + ':' + addy78ddf8bdb53
 1ff64f14764d67915f485 + '\'>'+addy_text78ddf8bdb531ff64f14764d67915f485+'<\
 /a>';
		</script></p>
DTSTAMP:20260420T182413Z
DTSTART;TZID=Australia/Melbourne:20260422T100000
DTEND;TZID=Australia/Melbourne:20260621T120000
SEQUENCE:0
TRANSP:OPAQUE
END:VEVENT
END:VCALENDAR