BEGIN:VCALENDAR
VERSION:2.0
PRODID:-//jEvents 2.0 for Joomla//EN
CALSCALE:GREGORIAN
METHOD:PUBLISH
BEGIN:VTIMEZONE
TZID:Australia/Melbourne
BEGIN:STANDARD
DTSTART:20250420T154500
RDATE:20251005T030000
TZOFFSETFROM:+1100
TZOFFSETTO:+1000
TZNAME:Australia/Melbourne AEST
END:STANDARD
BEGIN:STANDARD
DTSTART:20260405T020000
RDATE:20261004T030000
TZOFFSETFROM:+1100
TZOFFSETTO:+1000
TZNAME:Australia/Melbourne AEST
END:STANDARD
BEGIN:STANDARD
DTSTART:20270404T020000
RDATE:20271003T030000
TZOFFSETFROM:+1100
TZOFFSETTO:+1000
TZNAME:Australia/Melbourne AEST
END:STANDARD
BEGIN:STANDARD
DTSTART:20280402T020000
RDATE:20281001T030000
TZOFFSETFROM:+1100
TZOFFSETTO:+1000
TZNAME:Australia/Melbourne AEST
END:STANDARD
BEGIN:STANDARD
DTSTART:20290401T020000
RDATE:20291007T030000
TZOFFSETFROM:+1100
TZOFFSETTO:+1000
TZNAME:Australia/Melbourne AEST
END:STANDARD
BEGIN:STANDARD
DTSTART:20300407T020000
RDATE:20301006T030000
TZOFFSETFROM:+1100
TZOFFSETTO:+1000
TZNAME:Australia/Melbourne AEST
END:STANDARD
BEGIN:DAYLIGHT
DTSTART:20251005T030000
RDATE:20260405T020000
TZOFFSETFROM:+1000
TZOFFSETTO:+1100
TZNAME:Australia/Melbourne AEDT
END:DAYLIGHT
BEGIN:DAYLIGHT
DTSTART:20261004T030000
RDATE:20270404T020000
TZOFFSETFROM:+1000
TZOFFSETTO:+1100
TZNAME:Australia/Melbourne AEDT
END:DAYLIGHT
BEGIN:DAYLIGHT
DTSTART:20271003T030000
RDATE:20280402T020000
TZOFFSETFROM:+1000
TZOFFSETTO:+1100
TZNAME:Australia/Melbourne AEDT
END:DAYLIGHT
BEGIN:DAYLIGHT
DTSTART:20281001T030000
RDATE:20290401T020000
TZOFFSETFROM:+1000
TZOFFSETTO:+1100
TZNAME:Australia/Melbourne AEDT
END:DAYLIGHT
BEGIN:DAYLIGHT
DTSTART:20291007T030000
RDATE:20300407T020000
TZOFFSETFROM:+1000
TZOFFSETTO:+1100
TZNAME:Australia/Melbourne AEDT
END:DAYLIGHT
BEGIN:DAYLIGHT
DTSTART:20301006T030000
RDATE:20310406T020000
TZOFFSETFROM:+1000
TZOFFSETTO:+1100
TZNAME:Australia/Melbourne AEDT
END:DAYLIGHT
END:VTIMEZONE
BEGIN:VEVENT
UID:bb905812bd7d3487b2b2fd81760aae05
CATEGORIES:Health & Fitness
CREATED:20260327T103856
SUMMARY:Basketball (6-15 years) - Term 2 2026
LOCATION:West Sunshine Community Centre
DESCRIPTION;ENCODING=QUOTED-PRINTABLE:<p>&nbsp;&nbsp;</p><p><span style="font-size: 14pt; line-height: 107%; colo
 r: black;"><strong>Program details and registration</strong>:&nbsp;<a href=
 "https://www.trybooking.com/DKYKP">https://www.trybooking.com/DKYKP</a>&nbs
 p;</span></p><p>Enjoy soccer drills and mini games in this introduction to 
 soccer program while having fun and making new friends. Suitable for beginn
 ers<br><br>Tuesdays 21 April - 23 June 2026 (10 weeks)<br>Session A: 6-9 ye
 ars old: 3:45pm - 4.30pm<br>Session B: 10-15 years old: 4:30pm - 5:15pm&nbs
 p;</p><p>Per child - $2 per session OR $20 per term<br><br>What to bring:<b
 r>Wear comfortable clothing, runners and bring a drink bottle.<br><br>PAYME
 NT OPTIONS:<br>Payments can be made on TryBooking for the full term or pay 
 as you go at the Centre.<br><br>*Registration is mandatory for all WSCC pro
 grams' participants.<br><br>For enquiries - Call 03 9249 4555 or email <spa
 n id="cloakb0b02fe0ad4623998d59d134f885ebda">This email address is being pr
 otected from spambots. You need JavaScript enabled to view it.</span><scrip
 t type='text/javascript'>
				document.getElementById('cloakb0b02fe0ad46239
 98d59d134f885ebda').innerHTML = '';
				var prefix = '&#109;a' + 'i&#108;' 
 + '&#116;o';
				var path = 'hr' + 'ef' + '=';
				var addyb0b02fe0ad462399
 8d59d134f885ebda = 'wscc' + '&#64;';
				addyb0b02fe0ad4623998d59d134f885eb
 da = addyb0b02fe0ad4623998d59d134f885ebda + 'br&#105;mb&#97;nk' + '&#46;' +
  'v&#105;c' + '&#46;' + 'g&#111;v' + '&#46;' + '&#97;&#117;';
				var addy_
 textb0b02fe0ad4623998d59d134f885ebda = 'wscc' + '&#64;' + 'br&#105;mb&#97;n
 k' + '&#46;' + 'v&#105;c' + '&#46;' + 'g&#111;v' + '&#46;' + '&#97;&#117;';
 document.getElementById('cloakb0b02fe0ad4623998d59d134f885ebda').innerHTML 
 += '<a ' + path + '\'' + prefix + ':' + addyb0b02fe0ad4623998d59d134f885ebd
 a + '\'>'+addy_textb0b02fe0ad4623998d59d134f885ebda+'<\/a>';
		</script>&nb
 sp;</p>
DTSTAMP:20260420T182353Z
DTSTART;TZID=Australia/Melbourne:20260421T154500
DTEND;TZID=Australia/Melbourne:20260623T171500
SEQUENCE:0
TRANSP:OPAQUE
END:VEVENT
END:VCALENDAR