BEGIN:VCALENDAR
VERSION:2.0
PRODID:-//jEvents 2.0 for Joomla//EN
CALSCALE:GREGORIAN
METHOD:PUBLISH
BEGIN:VTIMEZONE
TZID:Australia/Melbourne
BEGIN:STANDARD
DTSTART:20250421T093000
RDATE:20251005T030000
TZOFFSETFROM:+1100
TZOFFSETTO:+1000
TZNAME:Australia/Melbourne AEST
END:STANDARD
BEGIN:STANDARD
DTSTART:20260405T020000
RDATE:20261004T030000
TZOFFSETFROM:+1100
TZOFFSETTO:+1000
TZNAME:Australia/Melbourne AEST
END:STANDARD
BEGIN:STANDARD
DTSTART:20270404T020000
RDATE:20271003T030000
TZOFFSETFROM:+1100
TZOFFSETTO:+1000
TZNAME:Australia/Melbourne AEST
END:STANDARD
BEGIN:STANDARD
DTSTART:20280402T020000
RDATE:20281001T030000
TZOFFSETFROM:+1100
TZOFFSETTO:+1000
TZNAME:Australia/Melbourne AEST
END:STANDARD
BEGIN:STANDARD
DTSTART:20290401T020000
RDATE:20291007T030000
TZOFFSETFROM:+1100
TZOFFSETTO:+1000
TZNAME:Australia/Melbourne AEST
END:STANDARD
BEGIN:STANDARD
DTSTART:20300407T020000
RDATE:20301006T030000
TZOFFSETFROM:+1100
TZOFFSETTO:+1000
TZNAME:Australia/Melbourne AEST
END:STANDARD
BEGIN:DAYLIGHT
DTSTART:20251005T030000
RDATE:20260405T020000
TZOFFSETFROM:+1000
TZOFFSETTO:+1100
TZNAME:Australia/Melbourne AEDT
END:DAYLIGHT
BEGIN:DAYLIGHT
DTSTART:20261004T030000
RDATE:20270404T020000
TZOFFSETFROM:+1000
TZOFFSETTO:+1100
TZNAME:Australia/Melbourne AEDT
END:DAYLIGHT
BEGIN:DAYLIGHT
DTSTART:20271003T030000
RDATE:20280402T020000
TZOFFSETFROM:+1000
TZOFFSETTO:+1100
TZNAME:Australia/Melbourne AEDT
END:DAYLIGHT
BEGIN:DAYLIGHT
DTSTART:20281001T030000
RDATE:20290401T020000
TZOFFSETFROM:+1000
TZOFFSETTO:+1100
TZNAME:Australia/Melbourne AEDT
END:DAYLIGHT
BEGIN:DAYLIGHT
DTSTART:20291007T030000
RDATE:20300407T020000
TZOFFSETFROM:+1000
TZOFFSETTO:+1100
TZNAME:Australia/Melbourne AEDT
END:DAYLIGHT
BEGIN:DAYLIGHT
DTSTART:20301006T030000
RDATE:20310406T020000
TZOFFSETFROM:+1000
TZOFFSETTO:+1100
TZNAME:Australia/Melbourne AEDT
END:DAYLIGHT
END:VTIMEZONE
BEGIN:VEVENT
UID:53b73a9a32ece60ccce7550a47e1721f
CATEGORIES:Arts Crafts & Books
CREATED:19700101T100000
SUMMARY:Quilting Group Meetup Wednesday - Term 2 2026
LOCATION:Delahey Community Centre\n70 Copperfield Drive\nDelahey\nVIC\n3037\nAustral
 ia\n9249 4900\nhttp://www.delahey.org.au
DESCRIPTION;ENCODING=QUOTED-PRINTABLE:Share your quilting and cross-stitching skills with others in a social grou
 p, not facilitated.Sewing machines and quilting tools provided. BYO fabrics
 .\nDates:&nbsp;Wednesdays,&nbsp;22 April – 24 June\nTime:&nbsp;9:30am-12:30
 pm\nCost:&nbsp;$30.00 (10 sessions)&nbsp;&nbsp;\n\nDelahey Community Centre
 \n70 Copperfield Drive, Delahey VIC 3037\n\n\nBooking Link:&nbsp;https://ww
 w.trybooking.com/DJSVD\n
DTSTAMP:20260420T004847Z
DTSTART;TZID=Australia/Melbourne:20260422T093000
DTEND;TZID=Australia/Melbourne:20260422T123000
SEQUENCE:0
RRULE:FREQ=WEEKLY;UNTIL=20260625T000000Z;INTERVAL=1;BYDAY=WE
TRANSP:OPAQUE
END:VEVENT
END:VCALENDAR