BEGIN:VCALENDAR
VERSION:2.0
PRODID:-//jEvents 2.0 for Joomla//EN
CALSCALE:GREGORIAN
METHOD:PUBLISH
BEGIN:VTIMEZONE
TZID:Australia/Melbourne
BEGIN:STANDARD
DTSTART:20250421T130000
RDATE:20251005T030000
TZOFFSETFROM:+1100
TZOFFSETTO:+1000
TZNAME:Australia/Melbourne AEST
END:STANDARD
BEGIN:STANDARD
DTSTART:20260405T020000
RDATE:20261004T030000
TZOFFSETFROM:+1100
TZOFFSETTO:+1000
TZNAME:Australia/Melbourne AEST
END:STANDARD
BEGIN:STANDARD
DTSTART:20270404T020000
RDATE:20271003T030000
TZOFFSETFROM:+1100
TZOFFSETTO:+1000
TZNAME:Australia/Melbourne AEST
END:STANDARD
BEGIN:STANDARD
DTSTART:20280402T020000
RDATE:20281001T030000
TZOFFSETFROM:+1100
TZOFFSETTO:+1000
TZNAME:Australia/Melbourne AEST
END:STANDARD
BEGIN:STANDARD
DTSTART:20290401T020000
RDATE:20291007T030000
TZOFFSETFROM:+1100
TZOFFSETTO:+1000
TZNAME:Australia/Melbourne AEST
END:STANDARD
BEGIN:STANDARD
DTSTART:20300407T020000
RDATE:20301006T030000
TZOFFSETFROM:+1100
TZOFFSETTO:+1000
TZNAME:Australia/Melbourne AEST
END:STANDARD
BEGIN:DAYLIGHT
DTSTART:20251005T030000
RDATE:20260405T020000
TZOFFSETFROM:+1000
TZOFFSETTO:+1100
TZNAME:Australia/Melbourne AEDT
END:DAYLIGHT
BEGIN:DAYLIGHT
DTSTART:20261004T030000
RDATE:20270404T020000
TZOFFSETFROM:+1000
TZOFFSETTO:+1100
TZNAME:Australia/Melbourne AEDT
END:DAYLIGHT
BEGIN:DAYLIGHT
DTSTART:20271003T030000
RDATE:20280402T020000
TZOFFSETFROM:+1000
TZOFFSETTO:+1100
TZNAME:Australia/Melbourne AEDT
END:DAYLIGHT
BEGIN:DAYLIGHT
DTSTART:20281001T030000
RDATE:20290401T020000
TZOFFSETFROM:+1000
TZOFFSETTO:+1100
TZNAME:Australia/Melbourne AEDT
END:DAYLIGHT
BEGIN:DAYLIGHT
DTSTART:20291007T030000
RDATE:20300407T020000
TZOFFSETFROM:+1000
TZOFFSETTO:+1100
TZNAME:Australia/Melbourne AEDT
END:DAYLIGHT
BEGIN:DAYLIGHT
DTSTART:20301006T030000
RDATE:20310406T020000
TZOFFSETFROM:+1000
TZOFFSETTO:+1100
TZNAME:Australia/Melbourne AEDT
END:DAYLIGHT
END:VTIMEZONE
BEGIN:VEVENT
UID:1e173e22439e2ae64efbe5e99fbc5be8
CATEGORIES:Arts Crafts & Books
CREATED:20241205T115943
SUMMARY: Art Meet-UP - Term 2 2026
LOCATION:Hunt Club Community & Arts Centre
DESCRIPTION;ENCODING=QUOTED-PRINTABLE:All abilities, untutored art space. Come and work on your art with fellow a
 rtists, stay for a cuppa and a chat afterwards. BYO materials.&nbsp;Date: W
 ednesdays, 22 April - 24 June 2026 \nTime: 1-3pm \nCost: No Charge (9 sessi
 ons) \nTo enrol; \nclick "Register Here" button or use booking link: https:
 //www.trybooking.com/DKLBF\n
DTSTAMP:20260420T004752Z
DTSTART;TZID=Australia/Melbourne:20260422T130000
DTEND;TZID=Australia/Melbourne:20260422T150000
SEQUENCE:0
TRANSP:OPAQUE
END:VEVENT
END:VCALENDAR