BEGIN:VCALENDAR
VERSION:2.0
PRODID:-//jEvents 2.0 for Joomla//EN
CALSCALE:GREGORIAN
METHOD:PUBLISH
BEGIN:VTIMEZONE
TZID:Australia/Melbourne
BEGIN:STANDARD
DTSTART:20250422T100000
RDATE:20251005T030000
TZOFFSETFROM:+1100
TZOFFSETTO:+1000
TZNAME:Australia/Melbourne AEST
END:STANDARD
BEGIN:STANDARD
DTSTART:20260405T020000
RDATE:20261004T030000
TZOFFSETFROM:+1100
TZOFFSETTO:+1000
TZNAME:Australia/Melbourne AEST
END:STANDARD
BEGIN:STANDARD
DTSTART:20270404T020000
RDATE:20271003T030000
TZOFFSETFROM:+1100
TZOFFSETTO:+1000
TZNAME:Australia/Melbourne AEST
END:STANDARD
BEGIN:STANDARD
DTSTART:20280402T020000
RDATE:20281001T030000
TZOFFSETFROM:+1100
TZOFFSETTO:+1000
TZNAME:Australia/Melbourne AEST
END:STANDARD
BEGIN:STANDARD
DTSTART:20290401T020000
RDATE:20291007T030000
TZOFFSETFROM:+1100
TZOFFSETTO:+1000
TZNAME:Australia/Melbourne AEST
END:STANDARD
BEGIN:STANDARD
DTSTART:20300407T020000
RDATE:20301006T030000
TZOFFSETFROM:+1100
TZOFFSETTO:+1000
TZNAME:Australia/Melbourne AEST
END:STANDARD
BEGIN:DAYLIGHT
DTSTART:20251005T030000
RDATE:20260405T020000
TZOFFSETFROM:+1000
TZOFFSETTO:+1100
TZNAME:Australia/Melbourne AEDT
END:DAYLIGHT
BEGIN:DAYLIGHT
DTSTART:20261004T030000
RDATE:20270404T020000
TZOFFSETFROM:+1000
TZOFFSETTO:+1100
TZNAME:Australia/Melbourne AEDT
END:DAYLIGHT
BEGIN:DAYLIGHT
DTSTART:20271003T030000
RDATE:20280402T020000
TZOFFSETFROM:+1000
TZOFFSETTO:+1100
TZNAME:Australia/Melbourne AEDT
END:DAYLIGHT
BEGIN:DAYLIGHT
DTSTART:20281001T030000
RDATE:20290401T020000
TZOFFSETFROM:+1000
TZOFFSETTO:+1100
TZNAME:Australia/Melbourne AEDT
END:DAYLIGHT
BEGIN:DAYLIGHT
DTSTART:20291007T030000
RDATE:20300407T020000
TZOFFSETFROM:+1000
TZOFFSETTO:+1100
TZNAME:Australia/Melbourne AEDT
END:DAYLIGHT
BEGIN:DAYLIGHT
DTSTART:20301006T030000
RDATE:20310406T020000
TZOFFSETFROM:+1000
TZOFFSETTO:+1100
TZNAME:Australia/Melbourne AEDT
END:DAYLIGHT
END:VTIMEZONE
BEGIN:VEVENT
UID:c38fa2a62c6b6b8f6f1cbc986c317674
CATEGORIES:Arts Crafts & Books
CREATED:20241205T145753
SUMMARY:Western Art Group - Term 2 2026
LOCATION:Hunt Club Community & Arts Centre
DESCRIPTION;ENCODING=QUOTED-PRINTABLE:<div><span open="">Come together to explore art and ideas, work on your own
  projects, giving feedback and support in a friendly atmosphere. BYO materi
 als.</span></div><div>&nbsp;</div><div>Date: Thursdays, 23 April - 25 June 
 2026</div><div>Time: 10am - 12pm&nbsp;&nbsp;</div><div>Cost: No Charge (10 
 sessions)</div><div><p style="margin: 0px; padding: 0px; white-space: pre-w
 rap; vertical-align: baseline; background-color: transparent; text-align: l
 eft; text-indent: 0px;"><strong><span data-contrast="none" style="margin: 0
 px; padding: 0px; color: #686868; font-size: 10pt; line-height: 24px; font-
 family: Verdana, Verdana_EmbeddedFont, Verdana_MSFontService, sans-serif;">
 <span style="margin: 0px; padding: 0px;"></span></span></strong></p><p styl
 e="margin: 0px 0px 10px; padding: 0px; white-space: pre-wrap; vertical-alig
 n: baseline; background-color: transparent; text-align: left; text-indent: 
 0px;"><span data-ccp-props="{&quot;201341983&quot;:2,&quot;335559739&quot;:
 150,&quot;335559740&quot;:360}" style="margin: 0px; padding: 0px; font-size
 : 10pt; line-height: 24px; font-family: Verdana, Verdana_EmbeddedFont, Verd
 ana_MSFontService, sans-serif; color: #686868;"></span></p><p style="margin
 : 0px; padding: 0px; white-space: pre-wrap; vertical-align: baseline; backg
 round-color: transparent; text-align: left; text-indent: 0px;"><span data-c
 ontrast="none" style="margin: 0px; padding: 0px; color: #686868; font-size:
  10pt; line-height: 24px; font-family: Verdana, Verdana_EmbeddedFont, Verda
 na_MSFontService, sans-serif;"><span style="margin: 0px; padding: 0px;">To 
 enrol; </span></span><span data-ccp-props="{&quot;201341983&quot;:2,&quot;3
 35559739&quot;:0,&quot;335559740&quot;:360}" style="margin: 0px; padding: 0
 px; font-size: 10pt; line-height: 24px; font-family: Verdana, Verdana_Embed
 dedFont, Verdana_MSFontService, sans-serif; color: #686868;"></span></p><p 
 style="margin: 0px; padding: 0px; white-space: pre-wrap; vertical-align: ba
 seline; background-color: transparent; text-align: left; text-indent: 0px;"
 ><span data-contrast="none" style="margin: 0px; padding: 0px; color: #68686
 8; font-size: 10pt; line-height: 24px; font-family: Verdana, Verdana_Embedd
 edFont, Verdana_MSFontService, sans-serif;"><span style="margin: 0px; paddi
 ng: 0px;">click "Register Here" button or use booking link: <a href="https:
 //www.trybooking.com/DKLDJ">https://www.trybooking.com/DKLDJ</a></span></sp
 an></p></div>
DTSTAMP:20260420T005353Z
DTSTART;TZID=Australia/Melbourne:20260423T100000
DTEND;TZID=Australia/Melbourne:20260423T120000
SEQUENCE:0
TRANSP:OPAQUE
END:VEVENT
END:VCALENDAR