BEGIN:VCALENDAR
VERSION:2.0
PRODID:-//jEvents 2.0 for Joomla//EN
CALSCALE:GREGORIAN
METHOD:PUBLISH
BEGIN:VTIMEZONE
TZID:Australia/Melbourne
BEGIN:STANDARD
DTSTART:20250420T180000
RDATE:20251005T030000
TZOFFSETFROM:+1100
TZOFFSETTO:+1000
TZNAME:Australia/Melbourne AEST
END:STANDARD
BEGIN:STANDARD
DTSTART:20260405T020000
RDATE:20261004T030000
TZOFFSETFROM:+1100
TZOFFSETTO:+1000
TZNAME:Australia/Melbourne AEST
END:STANDARD
BEGIN:STANDARD
DTSTART:20270404T020000
RDATE:20271003T030000
TZOFFSETFROM:+1100
TZOFFSETTO:+1000
TZNAME:Australia/Melbourne AEST
END:STANDARD
BEGIN:STANDARD
DTSTART:20280402T020000
RDATE:20281001T030000
TZOFFSETFROM:+1100
TZOFFSETTO:+1000
TZNAME:Australia/Melbourne AEST
END:STANDARD
BEGIN:STANDARD
DTSTART:20290401T020000
RDATE:20291007T030000
TZOFFSETFROM:+1100
TZOFFSETTO:+1000
TZNAME:Australia/Melbourne AEST
END:STANDARD
BEGIN:STANDARD
DTSTART:20300407T020000
RDATE:20301006T030000
TZOFFSETFROM:+1100
TZOFFSETTO:+1000
TZNAME:Australia/Melbourne AEST
END:STANDARD
BEGIN:DAYLIGHT
DTSTART:20251005T030000
RDATE:20260405T020000
TZOFFSETFROM:+1000
TZOFFSETTO:+1100
TZNAME:Australia/Melbourne AEDT
END:DAYLIGHT
BEGIN:DAYLIGHT
DTSTART:20261004T030000
RDATE:20270404T020000
TZOFFSETFROM:+1000
TZOFFSETTO:+1100
TZNAME:Australia/Melbourne AEDT
END:DAYLIGHT
BEGIN:DAYLIGHT
DTSTART:20271003T030000
RDATE:20280402T020000
TZOFFSETFROM:+1000
TZOFFSETTO:+1100
TZNAME:Australia/Melbourne AEDT
END:DAYLIGHT
BEGIN:DAYLIGHT
DTSTART:20281001T030000
RDATE:20290401T020000
TZOFFSETFROM:+1000
TZOFFSETTO:+1100
TZNAME:Australia/Melbourne AEDT
END:DAYLIGHT
BEGIN:DAYLIGHT
DTSTART:20291007T030000
RDATE:20300407T020000
TZOFFSETFROM:+1000
TZOFFSETTO:+1100
TZNAME:Australia/Melbourne AEDT
END:DAYLIGHT
BEGIN:DAYLIGHT
DTSTART:20301006T030000
RDATE:20310406T020000
TZOFFSETFROM:+1000
TZOFFSETTO:+1100
TZNAME:Australia/Melbourne AEDT
END:DAYLIGHT
END:VTIMEZONE
BEGIN:VEVENT
UID:e01bc3db165652da247ceb3e8de7cb86
CATEGORIES:Arts Crafts & Books
CREATED:20250625T140157
SUMMARY:Quilting Teaching Group - Tuesdays Term 2 2026
LOCATION:Delahey Community Centre
DESCRIPTION;ENCODING=QUOTED-PRINTABLE:<div>Learn to stitch and sew in this quilting teaching group facilitated by
  a volunteer.</div><div>BYO materials.&nbsp;</div><div><span style="font-si
 ze: 11pt; font-family: Calibri, sans-serif; color: #1f497d;">Sewing machine
 s and quilting tools provided.</span>&nbsp;<br><br><div><strong>Date:</stro
 ng>&nbsp;&nbsp;Tuesdays,&nbsp;21 April - 23 June</div><div><strong>Time:</s
 trong> 6:00pm – 9:00pm&nbsp;</div><strong>Cost:</strong> $30.00 (10 session
 s)</div><div>&nbsp;</div><div><p>Delahey Community Centre<br>70 Copperfield
  Drive, Delahey VIC 3037</p></div><p>Booking Link:&nbsp;<a href="https://ww
 w.trybooking.com/DKPEP">https://www.trybooking.com/DKPEP</a></p><p>&nbsp;</
 p><p>&nbsp;</p><p>&nbsp;</p>
DTSTAMP:20260420T002617Z
DTSTART;TZID=Australia/Melbourne:20260421T180000
DTEND;TZID=Australia/Melbourne:20260421T210000
SEQUENCE:0
TRANSP:OPAQUE
END:VEVENT
END:VCALENDAR