BEGIN:VCALENDAR
VERSION:2.0
PRODID:-//jEvents 2.0 for Joomla//EN
CALSCALE:GREGORIAN
METHOD:PUBLISH
BEGIN:VTIMEZONE
TZID:Australia/Melbourne
BEGIN:STANDARD
DTSTART:20250426T100000
RDATE:20251005T030000
TZOFFSETFROM:+1100
TZOFFSETTO:+1000
TZNAME:Australia/Melbourne AEST
END:STANDARD
BEGIN:STANDARD
DTSTART:20260405T020000
RDATE:20261004T030000
TZOFFSETFROM:+1100
TZOFFSETTO:+1000
TZNAME:Australia/Melbourne AEST
END:STANDARD
BEGIN:STANDARD
DTSTART:20270404T020000
RDATE:20271003T030000
TZOFFSETFROM:+1100
TZOFFSETTO:+1000
TZNAME:Australia/Melbourne AEST
END:STANDARD
BEGIN:STANDARD
DTSTART:20280402T020000
RDATE:20281001T030000
TZOFFSETFROM:+1100
TZOFFSETTO:+1000
TZNAME:Australia/Melbourne AEST
END:STANDARD
BEGIN:STANDARD
DTSTART:20290401T020000
RDATE:20291007T030000
TZOFFSETFROM:+1100
TZOFFSETTO:+1000
TZNAME:Australia/Melbourne AEST
END:STANDARD
BEGIN:STANDARD
DTSTART:20300407T020000
RDATE:20301006T030000
TZOFFSETFROM:+1100
TZOFFSETTO:+1000
TZNAME:Australia/Melbourne AEST
END:STANDARD
BEGIN:DAYLIGHT
DTSTART:20251005T030000
RDATE:20260405T020000
TZOFFSETFROM:+1000
TZOFFSETTO:+1100
TZNAME:Australia/Melbourne AEDT
END:DAYLIGHT
BEGIN:DAYLIGHT
DTSTART:20261004T030000
RDATE:20270404T020000
TZOFFSETFROM:+1000
TZOFFSETTO:+1100
TZNAME:Australia/Melbourne AEDT
END:DAYLIGHT
BEGIN:DAYLIGHT
DTSTART:20271003T030000
RDATE:20280402T020000
TZOFFSETFROM:+1000
TZOFFSETTO:+1100
TZNAME:Australia/Melbourne AEDT
END:DAYLIGHT
BEGIN:DAYLIGHT
DTSTART:20281001T030000
RDATE:20290401T020000
TZOFFSETFROM:+1000
TZOFFSETTO:+1100
TZNAME:Australia/Melbourne AEDT
END:DAYLIGHT
BEGIN:DAYLIGHT
DTSTART:20291007T030000
RDATE:20300407T020000
TZOFFSETFROM:+1000
TZOFFSETTO:+1100
TZNAME:Australia/Melbourne AEDT
END:DAYLIGHT
BEGIN:DAYLIGHT
DTSTART:20301006T030000
RDATE:20310406T020000
TZOFFSETFROM:+1000
TZOFFSETTO:+1100
TZNAME:Australia/Melbourne AEDT
END:DAYLIGHT
END:VTIMEZONE
BEGIN:VEVENT
UID:b3cd23a2661174e179ea88a1a80f3083
CATEGORIES:Family Activities
CREATED:19700101T100000
SUMMARY:Little Explorers (6 months -5 years) - Term 2 2026
LOCATION:Delahey Community Centre\n70 Copperfield Drive\nDelahey\nVIC\n3037\nAustral
 ia\n9249 4900\nhttp://www.delahey.org.au
DESCRIPTION;ENCODING=QUOTED-PRINTABLE:<div><p><span data-teams="true">Bond with your child with this fun-filled p
 lay that will delight the little hands and minds. </span></p><p><span data-
 teams="true">Little Explorers will help strengthen gross and fine motor ski
 lls, cognitive thinking, language skills and more. </span></p><p><span data
 -teams="true">Guardian supervision is required.</span></p><span open=""><st
 rong>Dates:</strong>&nbsp;<span style="font-size: 9pt; line-height: 107%; f
 ont-family: Verdana, sans-serif;">Mondays, 27 April - 1 June</span><br><str
 ong>Time:</strong> 10am to 11am<br><strong>Cost:</strong> $30.00 (6 session
 s)</span></div><div>&nbsp;</div><div><p>If you would like to join a program
  that has already started, please contact the Centre on 9249 4900 to organi
 se a pro-rata payment.</p><p>You will receive a Promo Code so you only pay 
 for classes from your start date.</p></div><div>&nbsp;</div><div>Delahey Co
 mmunity Centre</div><div><p open="">70 Copperfield Drive, Delahey VIC 3037<
 /p></div><p>Booking Link:&nbsp;<a href="https://www.trybooking.com/DKKAY">h
 ttps://www.trybooking.com/DKKAY</a></p>
DTSTAMP:20260426T091759Z
DTSTART;TZID=Australia/Melbourne:20260427T100000
DTEND;TZID=Australia/Melbourne:20260427T110000
SEQUENCE:0
RRULE:FREQ=WEEKLY;UNTIL=20260602T000000Z;INTERVAL=1;BYDAY=MO
TRANSP:OPAQUE
END:VEVENT
END:VCALENDAR