BEGIN:VCALENDAR
VERSION:2.0
PRODID:-//jEvents 2.0 for Joomla//EN
CALSCALE:GREGORIAN
METHOD:PUBLISH
BEGIN:VTIMEZONE
TZID:Australia/Melbourne
BEGIN:STANDARD
DTSTART:20250420T130000
RDATE:20251005T030000
TZOFFSETFROM:+1100
TZOFFSETTO:+1000
TZNAME:Australia/Melbourne AEST
END:STANDARD
BEGIN:STANDARD
DTSTART:20260405T020000
RDATE:20261004T030000
TZOFFSETFROM:+1100
TZOFFSETTO:+1000
TZNAME:Australia/Melbourne AEST
END:STANDARD
BEGIN:STANDARD
DTSTART:20270404T020000
RDATE:20271003T030000
TZOFFSETFROM:+1100
TZOFFSETTO:+1000
TZNAME:Australia/Melbourne AEST
END:STANDARD
BEGIN:STANDARD
DTSTART:20280402T020000
RDATE:20281001T030000
TZOFFSETFROM:+1100
TZOFFSETTO:+1000
TZNAME:Australia/Melbourne AEST
END:STANDARD
BEGIN:STANDARD
DTSTART:20290401T020000
RDATE:20291007T030000
TZOFFSETFROM:+1100
TZOFFSETTO:+1000
TZNAME:Australia/Melbourne AEST
END:STANDARD
BEGIN:STANDARD
DTSTART:20300407T020000
RDATE:20301006T030000
TZOFFSETFROM:+1100
TZOFFSETTO:+1000
TZNAME:Australia/Melbourne AEST
END:STANDARD
BEGIN:DAYLIGHT
DTSTART:20251005T030000
RDATE:20260405T020000
TZOFFSETFROM:+1000
TZOFFSETTO:+1100
TZNAME:Australia/Melbourne AEDT
END:DAYLIGHT
BEGIN:DAYLIGHT
DTSTART:20261004T030000
RDATE:20270404T020000
TZOFFSETFROM:+1000
TZOFFSETTO:+1100
TZNAME:Australia/Melbourne AEDT
END:DAYLIGHT
BEGIN:DAYLIGHT
DTSTART:20271003T030000
RDATE:20280402T020000
TZOFFSETFROM:+1000
TZOFFSETTO:+1100
TZNAME:Australia/Melbourne AEDT
END:DAYLIGHT
BEGIN:DAYLIGHT
DTSTART:20281001T030000
RDATE:20290401T020000
TZOFFSETFROM:+1000
TZOFFSETTO:+1100
TZNAME:Australia/Melbourne AEDT
END:DAYLIGHT
BEGIN:DAYLIGHT
DTSTART:20291007T030000
RDATE:20300407T020000
TZOFFSETFROM:+1000
TZOFFSETTO:+1100
TZNAME:Australia/Melbourne AEDT
END:DAYLIGHT
BEGIN:DAYLIGHT
DTSTART:20301006T030000
RDATE:20310406T020000
TZOFFSETFROM:+1000
TZOFFSETTO:+1100
TZNAME:Australia/Melbourne AEDT
END:DAYLIGHT
END:VTIMEZONE
BEGIN:VEVENT
UID:08858c6fd028aec0f4bf63d1bf2c65e8
CATEGORIES:Social Activities & Games
CREATED:19700101T100000
SUMMARY:Mahjong and more! Term 2 2026
LOCATION:Delahey Community Centre\n70 Copperfield Drive\nDelahey\nVIC\n3037\nAustral
 ia\n9249 4900\nhttp://www.delahey.org.au
DESCRIPTION;ENCODING=QUOTED-PRINTABLE:<p><span style="font-size: 9pt; font-family: Verdana, sans-serif;">Learn an
 d enjoy Mahjong and other classic board/card games from fellow players in a
  friendly environment!</span></p><p><span style="font-size: 9pt; font-famil
 y: Verdana, sans-serif;"><strong>Date:</strong>&nbsp;</span><span style="fo
 nt-size: 9pt; font-family: Verdana, sans-serif;">Tuesdays<span style="font-
 size: 9pt; line-height: 107%; font-family: Verdana, sans-serif;">, 21 April
  – 23 June</span></span></p><p><span style="font-size: 9pt; font-family: Ve
 rdana, sans-serif;"><strong>Time:</strong> 1:00pm – 3:00pm</span>&nbsp; &nb
 sp;</p><p><strong>Cost</strong>:&nbsp; No charge (10 sessions)&nbsp; &nbsp;
  &nbsp; &nbsp; &nbsp;&nbsp; &nbsp; &nbsp; &nbsp; &nbsp; &nbsp; &nbsp; &nbsp
 ; &nbsp; &nbsp; &nbsp; &nbsp; &nbsp; &nbsp; &nbsp; &nbsp; &nbsp; &nbsp; &nb
 sp; &nbsp; &nbsp; &nbsp; &nbsp; &nbsp; &nbsp; &nbsp; &nbsp; &nbsp; &nbsp; &
 nbsp; &nbsp; &nbsp; &nbsp; &nbsp; &nbsp; &nbsp; &nbsp; &nbsp; &nbsp; &nbsp;
  &nbsp; &nbsp; &nbsp; &nbsp; &nbsp; &nbsp; &nbsp; &nbsp; &nbsp; &nbsp; &nbs
 p; &nbsp; &nbsp; &nbsp; &nbsp; &nbsp; &nbsp; &nbsp; &nbsp; &nbsp; &nbsp; &n
 bsp; &nbsp; &nbsp; &nbsp; &nbsp; &nbsp; &nbsp; &nbsp; &nbsp; &nbsp; &nbsp; 
 &nbsp; &nbsp; &nbsp; &nbsp; &nbsp; &nbsp; &nbsp; &nbsp; &nbsp; &nbsp; &nbsp
 ; &nbsp;</p><p>For Bookings click on link below:&nbsp;</p><p><a href="https
 ://www.trybooking.com/DHHCX">https://www.trybooking.com/DHHCX</a></p><p>&nb
 sp;</p><p>&nbsp;</p>
DTSTAMP:20260420T194511Z
DTSTART;TZID=Australia/Melbourne:20260421T130000
DTEND;TZID=Australia/Melbourne:20260421T150000
SEQUENCE:0
RRULE:FREQ=WEEKLY;UNTIL=20260624T000000Z;INTERVAL=1;BYDAY=MO,TU
TRANSP:OPAQUE
END:VEVENT
END:VCALENDAR