BEGIN:VCALENDAR
VERSION:2.0
PRODID:-//jEvents 2.0 for Joomla//EN
CALSCALE:GREGORIAN
METHOD:PUBLISH
BEGIN:VTIMEZONE
TZID:Australia/Melbourne
BEGIN:STANDARD
DTSTART:20250501T093000
RDATE:20251005T030000
TZOFFSETFROM:+1100
TZOFFSETTO:+1000
TZNAME:Australia/Melbourne AEST
END:STANDARD
BEGIN:STANDARD
DTSTART:20260405T020000
RDATE:20261004T030000
TZOFFSETFROM:+1100
TZOFFSETTO:+1000
TZNAME:Australia/Melbourne AEST
END:STANDARD
BEGIN:STANDARD
DTSTART:20270404T020000
RDATE:20271003T030000
TZOFFSETFROM:+1100
TZOFFSETTO:+1000
TZNAME:Australia/Melbourne AEST
END:STANDARD
BEGIN:STANDARD
DTSTART:20280402T020000
RDATE:20281001T030000
TZOFFSETFROM:+1100
TZOFFSETTO:+1000
TZNAME:Australia/Melbourne AEST
END:STANDARD
BEGIN:STANDARD
DTSTART:20290401T020000
RDATE:20291007T030000
TZOFFSETFROM:+1100
TZOFFSETTO:+1000
TZNAME:Australia/Melbourne AEST
END:STANDARD
BEGIN:STANDARD
DTSTART:20300407T020000
RDATE:20301006T030000
TZOFFSETFROM:+1100
TZOFFSETTO:+1000
TZNAME:Australia/Melbourne AEST
END:STANDARD
BEGIN:DAYLIGHT
DTSTART:20251005T030000
RDATE:20260405T020000
TZOFFSETFROM:+1000
TZOFFSETTO:+1100
TZNAME:Australia/Melbourne AEDT
END:DAYLIGHT
BEGIN:DAYLIGHT
DTSTART:20261004T030000
RDATE:20270404T020000
TZOFFSETFROM:+1000
TZOFFSETTO:+1100
TZNAME:Australia/Melbourne AEDT
END:DAYLIGHT
BEGIN:DAYLIGHT
DTSTART:20271003T030000
RDATE:20280402T020000
TZOFFSETFROM:+1000
TZOFFSETTO:+1100
TZNAME:Australia/Melbourne AEDT
END:DAYLIGHT
BEGIN:DAYLIGHT
DTSTART:20281001T030000
RDATE:20290401T020000
TZOFFSETFROM:+1000
TZOFFSETTO:+1100
TZNAME:Australia/Melbourne AEDT
END:DAYLIGHT
BEGIN:DAYLIGHT
DTSTART:20291007T030000
RDATE:20300407T020000
TZOFFSETFROM:+1000
TZOFFSETTO:+1100
TZNAME:Australia/Melbourne AEDT
END:DAYLIGHT
BEGIN:DAYLIGHT
DTSTART:20301006T030000
RDATE:20310406T020000
TZOFFSETFROM:+1000
TZOFFSETTO:+1100
TZNAME:Australia/Melbourne AEDT
END:DAYLIGHT
END:VTIMEZONE
BEGIN:VEVENT
UID:a06e85e880ecd108181069cb1fea5b45
CATEGORIES:Health & Fitness
CREATED:19700101T100000
SUMMARY:Pilates - Term 2 2026
LOCATION:Westvale Community Centre\n45 Kings Road\nSt Albans\nVIC\n3021\nAustralia\n
 92494665
DESCRIPTION;ENCODING=QUOTED-PRINTABLE:<p>Join our Pilates program and enhance your fitness and vitality. Led by e
 xperienced instructors, this program focuses on strength flexibility, and w
 ell-being through controlled movements and breathing exercises. Bookings ar
 e essential.</p><p>9.30-10.30am - Saturday 02 May - 27 June (9 sessions)</p
 ><p><strong>Does not operate on Public Holidays</strong></p>
DTSTAMP:20260426T035007Z
DTSTART;TZID=Australia/Melbourne:20260502T093000
DTEND;TZID=Australia/Melbourne:20260627T223000
SEQUENCE:0
RRULE:FREQ=WEEKLY;UNTIL=20260628T000000Z;INTERVAL=1;BYDAY=SA
TRANSP:OPAQUE
END:VEVENT
END:VCALENDAR