BEGIN:VCALENDAR
VERSION:2.0
PRODID:-//jEvents 2.0 for Joomla//EN
CALSCALE:GREGORIAN
METHOD:PUBLISH
BEGIN:VTIMEZONE
TZID:Australia/Melbourne
BEGIN:STANDARD
DTSTART:20250427T100000
RDATE:20251005T030000
TZOFFSETFROM:+1100
TZOFFSETTO:+1000
TZNAME:Australia/Melbourne AEST
END:STANDARD
BEGIN:STANDARD
DTSTART:20260405T020000
RDATE:20261004T030000
TZOFFSETFROM:+1100
TZOFFSETTO:+1000
TZNAME:Australia/Melbourne AEST
END:STANDARD
BEGIN:STANDARD
DTSTART:20270404T020000
RDATE:20271003T030000
TZOFFSETFROM:+1100
TZOFFSETTO:+1000
TZNAME:Australia/Melbourne AEST
END:STANDARD
BEGIN:STANDARD
DTSTART:20280402T020000
RDATE:20281001T030000
TZOFFSETFROM:+1100
TZOFFSETTO:+1000
TZNAME:Australia/Melbourne AEST
END:STANDARD
BEGIN:STANDARD
DTSTART:20290401T020000
RDATE:20291007T030000
TZOFFSETFROM:+1100
TZOFFSETTO:+1000
TZNAME:Australia/Melbourne AEST
END:STANDARD
BEGIN:STANDARD
DTSTART:20300407T020000
RDATE:20301006T030000
TZOFFSETFROM:+1100
TZOFFSETTO:+1000
TZNAME:Australia/Melbourne AEST
END:STANDARD
BEGIN:DAYLIGHT
DTSTART:20251005T030000
RDATE:20260405T020000
TZOFFSETFROM:+1000
TZOFFSETTO:+1100
TZNAME:Australia/Melbourne AEDT
END:DAYLIGHT
BEGIN:DAYLIGHT
DTSTART:20261004T030000
RDATE:20270404T020000
TZOFFSETFROM:+1000
TZOFFSETTO:+1100
TZNAME:Australia/Melbourne AEDT
END:DAYLIGHT
BEGIN:DAYLIGHT
DTSTART:20271003T030000
RDATE:20280402T020000
TZOFFSETFROM:+1000
TZOFFSETTO:+1100
TZNAME:Australia/Melbourne AEDT
END:DAYLIGHT
BEGIN:DAYLIGHT
DTSTART:20281001T030000
RDATE:20290401T020000
TZOFFSETFROM:+1000
TZOFFSETTO:+1100
TZNAME:Australia/Melbourne AEDT
END:DAYLIGHT
BEGIN:DAYLIGHT
DTSTART:20291007T030000
RDATE:20300407T020000
TZOFFSETFROM:+1000
TZOFFSETTO:+1100
TZNAME:Australia/Melbourne AEDT
END:DAYLIGHT
BEGIN:DAYLIGHT
DTSTART:20301006T030000
RDATE:20310406T020000
TZOFFSETFROM:+1000
TZOFFSETTO:+1100
TZNAME:Australia/Melbourne AEDT
END:DAYLIGHT
END:VTIMEZONE
BEGIN:VEVENT
UID:be5f7fb7744c9bab9cb344df633d9427
CATEGORIES:Social Activities & Games
CREATED:20241205T154451
SUMMARY:Gardeners Club "The Hunter's Patch @ The Village"- Term 2 2026
LOCATION:Hunt Club Community & Arts Centre
DESCRIPTION;ENCODING=QUOTED-PRINTABLE:<div>Join us in the Hunter's Patch, where green thumbs unite and cultivate 
 community growth! Whether you're a seasoned gardener or just starting out, 
 our club offers a nurturing space to share knowledge, swap stories, and cel
 ebrate the beauty of nature. From flower enthusiasts to vegetable gardeners
 , everyone is welcome to join our vibrant community. Join us as we dig into
  gardening tips, plant swaps, and hands-on workshops. Let's cultivate toget
 her and watch our gardens—and friendships—blossom! BYO water bottle and hat
 .&nbsp;</div><div>&nbsp;</div><div><strong>Dates:</strong>&nbsp;Tuesdays, 2
 1 April - 23 June 2026 (10 sessions)</div><div><strong>Time:</strong> 10am-
 1pm&nbsp;</div><div><strong>Cost:</strong> No Charge&nbsp;</div><div>&nbsp;
 </div><div><div>To enrol;&nbsp;click "Register Here" button or use booking 
 link:&nbsp;<a href="https://www.trybooking.com/DASMF"></a><a href="https://
 www.trybooking.com/DKMPL">https://www.trybooking.com/DKMPL</a><a href="http
 s://www.trybooking.com/DASMF"></a><a href="https://www.trybooking.com/DHRCY
 "></a></div><div>&nbsp;</div></div>
DTSTAMP:20260422T040911Z
DTSTART;TZID=Australia/Melbourne:20260428T100000
DTEND;TZID=Australia/Melbourne:20260428T130000
SEQUENCE:0
TRANSP:OPAQUE
END:VEVENT
END:VCALENDAR